BEGIN:VCALENDAR
VERSION:2.0
PRODID:-//Victorian Farmers Federation - ECPv6.15.17.1//NONSGML v1.0//EN
CALSCALE:GREGORIAN
METHOD:PUBLISH
X-WR-CALNAME:Victorian Farmers Federation
X-ORIGINAL-URL:https://vff.org.au
X-WR-CALDESC:Events for Victorian Farmers Federation
REFRESH-INTERVAL;VALUE=DURATION:PT1H
X-Robots-Tag:noindex
X-PUBLISHED-TTL:PT1H
BEGIN:VTIMEZONE
TZID:Australia/Melbourne
BEGIN:STANDARD
TZOFFSETFROM:+1100
TZOFFSETTO:+1000
TZNAME:AEST
DTSTART:20250405T160000
END:STANDARD
BEGIN:DAYLIGHT
TZOFFSETFROM:+1000
TZOFFSETTO:+1100
TZNAME:AEDT
DTSTART:20251004T160000
END:DAYLIGHT
BEGIN:STANDARD
TZOFFSETFROM:+1100
TZOFFSETTO:+1000
TZNAME:AEST
DTSTART:20260404T160000
END:STANDARD
BEGIN:DAYLIGHT
TZOFFSETFROM:+1000
TZOFFSETTO:+1100
TZNAME:AEDT
DTSTART:20261003T160000
END:DAYLIGHT
BEGIN:STANDARD
TZOFFSETFROM:+1100
TZOFFSETTO:+1000
TZNAME:AEST
DTSTART:20270403T160000
END:STANDARD
BEGIN:DAYLIGHT
TZOFFSETFROM:+1000
TZOFFSETTO:+1100
TZNAME:AEDT
DTSTART:20271002T160000
END:DAYLIGHT
END:VTIMEZONE
BEGIN:VEVENT
DTSTART;TZID=Australia/Melbourne:20260501T133000
DTEND;TZID=Australia/Melbourne:20260501T170000
DTSTAMP:20260419T232310
CREATED:20260301T231915Z
LAST-MODIFIED:20260301T232117Z
UID:15146-1777642200-1777654800@vff.org.au
SUMMARY:Goat Essentials Workshop\, Healesville
DESCRIPTION:This hands-on workshop will cover practical goat husbandry\, including vaccinations\, faecal egg counts\, general biosecurity and body condition scoring.  \n\n\n\nAlso explore electric fence options for goat grazing and containment. \n\n\n\nClick HERE to register \n\n\n\nFor more information\, contact Stock Sense at stocksense@vff.org.au
URL:https://vff.org.au/event/goat-essentials-workshop-healesville/
CATEGORIES:Stock Sense
ATTACH;FMTTYPE=image/jpeg:https://vff.org.au/wp-content/uploads/2026/03/Mornington-8-scaled.jpg
END:VEVENT
BEGIN:VEVENT
DTSTART;TZID=Australia/Melbourne:20260506T180000
DTEND;TZID=Australia/Melbourne:20260506T193000
DTSTAMP:20260419T232310
CREATED:20260311T034206Z
LAST-MODIFIED:20260311T034215Z
UID:15176-1778090400-1778095800@vff.org.au
SUMMARY:Learn to Lamb Webinar - Part 1/2
DESCRIPTION:Maximising Lamb Survival and Preventing Problems \n\n\n\nA systems-based approach by vet Conor McConnell to improving lamb survival by addressing genetics\, nutrition\, ewe condition and metabolic risk before lambing even begins.  \n\n\n\nThe webinar series will be conducted via Zoom. Register your interest here. We look forward to seeing you!
URL:https://vff.org.au/event/learn-to-lamb-webinar/
CATEGORIES:Stock Sense
ATTACH;FMTTYPE=image/jpeg:https://vff.org.au/wp-content/uploads/2026/03/Mornington-9-scaled.jpg
END:VEVENT
BEGIN:VEVENT
DTSTART;TZID=Australia/Melbourne:20260507T180000
DTEND;TZID=Australia/Melbourne:20260507T193000
DTSTAMP:20260419T232310
CREATED:20260311T035458Z
LAST-MODIFIED:20260311T035511Z
UID:15178-1778176800-1778182200@vff.org.au
SUMMARY:Learn to Lamb Webinar - Part 2/2
DESCRIPTION:Lambing Interventions – When to act and how to avoid costly mistakes \n\n\n\nA practical guide to knowing when to step in at lambing\, how to intervene correctly\, and how to avoid costly mistakes that increase ewe and lamb losses. \n\n\n\nThe webinar series will be conducted via Zoom. Register your interest here. We look forward to seeing you!
URL:https://vff.org.au/event/learn-to-lamb-webinar-part-2/
CATEGORIES:Stock Sense
ATTACH;FMTTYPE=image/jpeg:https://vff.org.au/wp-content/uploads/2026/03/Mornington-9-scaled.jpg
END:VEVENT
BEGIN:VEVENT
DTSTART;TZID=Australia/Melbourne:20260508T093000
DTEND;TZID=Australia/Melbourne:20260508T133000
DTSTAMP:20260419T232310
CREATED:20260416T000841Z
LAST-MODIFIED:20260416T000844Z
UID:15446-1778232600-1778247000@vff.org.au
SUMMARY:Stock Handling Workshop\, Bendigo
DESCRIPTION:Join experts Mark Bennett and Jack Briscoe as they discuss stockyard design\, stock handling techniques and overall livestock safety. \n\n\n\nThe Stock Sense team will also lead a discussion on biosecurity. \n\n\n\nClick HERE to register \n\n\n\nFor more information\, contact Stock Sense at stocksense@vff.org.au
URL:https://vff.org.au/event/stock-handling-bendigo/
CATEGORIES:Stock Sense
ATTACH;FMTTYPE=image/jpeg:https://vff.org.au/wp-content/uploads/2026/04/Mornington-11-scaled.jpg
END:VEVENT
BEGIN:VEVENT
DTSTART;TZID=Australia/Melbourne:20260515T100000
DTEND;TZID=Australia/Melbourne:20260515T140000
DTSTAMP:20260419T232310
CREATED:20260417T012626Z
LAST-MODIFIED:20260417T013932Z
UID:15449-1778839200-1778853600@vff.org.au
SUMMARY:Stock Handling Workshop\, Kyabram
DESCRIPTION:Join experts Mark Bennett and Jack Briscoe as they discuss stockyard design\, stock handling techniques and overall livestock safety. \n\n\n\nThe Stock Sense team will also lead a discussion on biosecurity. \n\n\n\nClick HERE to register \n\n\n\nFor more information\, contact Stock Sense at stocksense@vff.org.au
URL:https://vff.org.au/event/stock-handling-workshop-kyabram/
CATEGORIES:Stock Sense
ATTACH;FMTTYPE=image/jpeg:https://vff.org.au/wp-content/uploads/2026/04/658810511_1252169027033600_796399057567871209_n.jpg
END:VEVENT
BEGIN:VEVENT
DTSTART;TZID=Australia/Melbourne:20260531T173000
DTEND;TZID=Australia/Melbourne:20260601T210000
DTSTAMP:20260419T232310
CREATED:20260205T003955Z
LAST-MODIFIED:20260315T230737Z
UID:15100-1780248600-1780347600@vff.org.au
SUMMARY:2026 VFF UDV Dairy Conference
DESCRIPTION:The VFF UDV Dairy Conference will be held on 31 May and 1 June 2026 at the Goods Shed in Ballarat. The theme is Uniting Dairyfarmers of Victoria – the future. With the welcome networking drinks to be held on the Sunday evening at Itinerant Spirits\, conference and dinner on the Monday. The VFF Conference will follow\, on 2 June. \n\n\n\nPresenters and sponsors are currently being sought\, and more details will be provided closer to the event. \n\n\n\nStart booking your accommodation now. Please see some options below.  \n\n\n\nQuest Ballarat Station | Ballarat Serviced Apartments – book direct using code VFF2026QBS (enter it in the gold banner) to secure the great rates. \n\n\n\nQuest Apartments Ballarat | Ballarat Serviced Apartments – use the promo code: VFF26QBAL (in the gold banner) and this is valid for stays from Thursday 28 May to Thursday 4 June 2026. \n\n\n\nThe Provincial Hotel | Book directly to redeem the special offer for the event dates\, and use code: GS2026. \n\n\n\n \n\n\n\nWhy not extend your stay before the VFF UDV event\, and bring along a friend or family member who can enjoy the surrounds while you’re at our Conference? For some inspiration visit: Itineraries – Visit Ballarat
URL:https://vff.org.au/event/2026-vff-dairy-conference/
LOCATION:Goods Shed\, 200 Lydiard St N\, Soldiers Hill VIC 3350\, Ballarat\, VIC\, Australia
ATTACH;FMTTYPE=image/jpeg:https://vff.org.au/wp-content/uploads/2021/09/EWI-20180917-017.jpg
END:VEVENT
END:VCALENDAR