BEGIN:VCALENDAR
VERSION:2.0
PRODID:-//Victorian Farmers Federation - ECPv6.15.17.1//NONSGML v1.0//EN
CALSCALE:GREGORIAN
METHOD:PUBLISH
X-WR-CALNAME:Victorian Farmers Federation
X-ORIGINAL-URL:https://vff.org.au
X-WR-CALDESC:Events for Victorian Farmers Federation
REFRESH-INTERVAL;VALUE=DURATION:PT1H
X-Robots-Tag:noindex
X-PUBLISHED-TTL:PT1H
BEGIN:VTIMEZONE
TZID:Australia/Melbourne
BEGIN:STANDARD
TZOFFSETFROM:+1100
TZOFFSETTO:+1000
TZNAME:AEST
DTSTART:20250405T160000
END:STANDARD
BEGIN:DAYLIGHT
TZOFFSETFROM:+1000
TZOFFSETTO:+1100
TZNAME:AEDT
DTSTART:20251004T160000
END:DAYLIGHT
BEGIN:STANDARD
TZOFFSETFROM:+1100
TZOFFSETTO:+1000
TZNAME:AEST
DTSTART:20260404T160000
END:STANDARD
BEGIN:DAYLIGHT
TZOFFSETFROM:+1000
TZOFFSETTO:+1100
TZNAME:AEDT
DTSTART:20261003T160000
END:DAYLIGHT
BEGIN:STANDARD
TZOFFSETFROM:+1100
TZOFFSETTO:+1000
TZNAME:AEST
DTSTART:20270403T160000
END:STANDARD
BEGIN:DAYLIGHT
TZOFFSETFROM:+1000
TZOFFSETTO:+1100
TZNAME:AEDT
DTSTART:20271002T160000
END:DAYLIGHT
END:VTIMEZONE
BEGIN:VEVENT
DTSTART;TZID=Australia/Melbourne:20260304T180000
DTEND;TZID=Australia/Melbourne:20260304T180000
DTSTAMP:20260421T180244
CREATED:20260210T023012Z
LAST-MODIFIED:20260210T023022Z
UID:15116-1772647200-1772647200@vff.org.au
SUMMARY:VFF Bass Coast Branch Meeting
DESCRIPTION:You’re invited to the upcoming VFF Bass Coast Branch Meeting at the San Remo Hotel\, in the meeting room out the back. \n\n\n\n6pm arrival for ordering6.30 meeting startPlease send through any agenda items by 11th Feb\, so they can be circulated ahead of the meeting.  
URL:https://vff.org.au/event/vff-bass-coast-branch-meeting-2/
END:VEVENT
BEGIN:VEVENT
DTSTART;TZID=Australia/Melbourne:20260304T183000
DTEND;TZID=Australia/Melbourne:20260304T183000
DTSTAMP:20260421T180244
CREATED:20260218T025430Z
LAST-MODIFIED:20260218T025434Z
UID:15135-1772649000-1772649000@vff.org.au
SUMMARY:VFF Wedderburn Branch and Community Meeting
DESCRIPTION:You’re invited to the upcoming VFF Wedderburn Branch and Community Meeting at the Wedderburn Golf Club. \n\n\n\nGuest Speaker:Scott HargreavesExecutive DirectorInstitute of Public Affairs \n\n\n\nBorn and bred in Kurraca West (Wedderburn)\, Scott will be speaking on the influence of government on Agriculture. Scott has worked in Government for many years\, and is able to provide an insight as to how decisions are made within Government. \n\n\n\nRSVP – Christine Coombes 0400 970 902 for catering purposes by Sunday 1 March
URL:https://vff.org.au/event/vff-wedderburn-branch-and-community-meeting/
END:VEVENT
BEGIN:VEVENT
DTSTART;TZID=Australia/Melbourne:20260305T093000
DTEND;TZID=Australia/Melbourne:20260305T153000
DTSTAMP:20260421T180244
CREATED:20260204T232459Z
LAST-MODIFIED:20260204T232539Z
UID:15097-1772703000-1772724600@vff.org.au
SUMMARY:Fire Recovery Fencing Workshop\, Tallangatta
DESCRIPTION:In the wake of the devastating fires\, learn how to rebuild your farm from the ground up. \n\n\n\nJoin us for a practical\, on-farm workshop. Learn how to install new fencing and maintain and repair existing ones\, as well as how fencing relates to good biosecurity. Spots are limited so register to claim yours. \n\n\n\nSpots are limited so register to claim yours. \n\n\n\nClick HERE to register \n\n\n\nFor more information\, contact Stock Sense at stocksense@vff.org.au
URL:https://vff.org.au/event/fire-recovery-fencing-workshop-tallangatta/
LOCATION:Tallangatta\, VIC\, Tallangatta\, VIC\, Australia
CATEGORIES:Stock Sense
ATTACH;FMTTYPE=image/jpeg:https://vff.org.au/wp-content/uploads/2026/02/Mornington-3-scaled.jpg
END:VEVENT
BEGIN:VEVENT
DTSTART;TZID=Australia/Melbourne:20260306T093000
DTEND;TZID=Australia/Melbourne:20260306T153000
DTSTAMP:20260421T180244
CREATED:20260209T221418Z
LAST-MODIFIED:20260209T221423Z
UID:15113-1772789400-1772811000@vff.org.au
SUMMARY:Fire Recovery Fencing Workshop\, Creightons Creek
DESCRIPTION:In the wake of the devastating fires\, learn how to rebuild your farm from the ground up. \n\n\n\nJoin us for a practical\, on-farm workshop. Learn how to install new fencing and maintain and repair existing ones\, as well as how fencing relates to good biosecurity. Spots are limited so register to claim yours. \n\n\n\nSpots are limited so register to claim yours. \n\n\n\nClick HERE to register \n\n\n\nFor more information\, contact Stock Sense at stocksense@vff.org.au
URL:https://vff.org.au/event/fire-recovery-fencing-workshop-creightons-creek/
LOCATION:Creightons Creek\, VIC\, Creightons Creek\, VIC\, Australia
CATEGORIES:Stock Sense
ATTACH;FMTTYPE=image/jpeg:https://vff.org.au/wp-content/uploads/2026/02/Mornington-5-scaled.jpg
END:VEVENT
BEGIN:VEVENT
DTSTART;TZID=Australia/Melbourne:20260312T090000
DTEND;TZID=Australia/Melbourne:20260312T120000
DTSTAMP:20260421T180244
CREATED:20260205T034710Z
LAST-MODIFIED:20260211T011806Z
UID:15103-1773306000-1773316800@vff.org.au
SUMMARY:Moveable Fencing Workshop\, Yarra Valley
DESCRIPTION:Join us for a practical\, on-farm workshop with skilled fencing contractors sharing their knowledge.  \n\n\n\nLearn about moveable fencing options to help with grazing management\, as well as how fencing relates to good biosecurity.  \n\n\n\nSpots are limited so register to claim yours. \n\n\n\nClick HERE to register \n\n\n\nFor more information\, contact Stock Sense at stocksense@vff.org.au
URL:https://vff.org.au/event/moveable-fencing-workshop-yarra-valley/
CATEGORIES:Stock Sense
ATTACH;FMTTYPE=image/jpeg:https://vff.org.au/wp-content/uploads/2026/02/Mornington-4-scaled.jpg
END:VEVENT
BEGIN:VEVENT
DTSTART;TZID=Australia/Melbourne:20260317T183000
DTEND;TZID=Australia/Melbourne:20260317T183000
DTSTAMP:20260421T180244
CREATED:20260310T231840Z
LAST-MODIFIED:20260310T231842Z
UID:15170-1773772200-1773772200@vff.org.au
SUMMARY:Have your say: VFF State Election Priorities Online Workshop 1
DESCRIPTION:This year’s State Election is our chance as farmers to shape the future of farming and rural Victoria.  \n\n\n\nFarmers are facing unprecedented challenges\, and together we must make sure the voice of agriculture is heard. We want to hear directly from you.  \n\n\n\nWhat matters most to your farm business? What policies are affecting your region? And what needs to change?  \n\n\n\nTogether\, we must put forward strong ideas\, and hold all parties to account for how their policies will impact our industry. Agriculture is the engine of rural Victoria\, and together we can push for the change needed to drive innovation\, support growth and secure the future of farming. \n\n\n\nThat’s why we’re inviting members to take part in our State Election Priorities Online Workshops.  \n\n\n\nJoin VFF President Brett Hosking\, VFF CEO Charlie Thomas and session facilitator Cate Mercer-Grant for an interactive discussion to identify the key issues facing farmers and help drive VFF advocacy toward the 2026 State Election.  \n\n\n\nClick below to register your interest for Tuesday 17 March 6:30pm  \n\n\n\nREGISTER NOW
URL:https://vff.org.au/event/have-your-say-vff-state-election-priorities-online-workshop-1/
ATTACH;FMTTYPE=image/jpeg:https://vff.org.au/wp-content/uploads/2024/10/VFF-ELECTION-FORUM-AND-WORKSHOPS-2-scaled.jpg
END:VEVENT
BEGIN:VEVENT
DTSTART;TZID=Australia/Melbourne:20260320T090000
DTEND;TZID=Australia/Melbourne:20260320T090000
DTSTAMP:20260421T180244
CREATED:20260304T043149Z
LAST-MODIFIED:20260304T043151Z
UID:15159-1773997200-1773997200@vff.org.au
SUMMARY:VFF Peninsula Branch Seminar: Pastures and soils
DESCRIPTION:2026 VFF Peninsula Branch Pastures Workshop Fri 20 March with Humantix link_Download
URL:https://vff.org.au/event/vff-peninsula-branch-seminar-pastures-and-soils/
END:VEVENT
BEGIN:VEVENT
DTSTART;TZID=Australia/Melbourne:20260320T093000
DTEND;TZID=Australia/Melbourne:20260320T153000
DTSTAMP:20260421T180244
CREATED:20260204T230356Z
LAST-MODIFIED:20260204T230358Z
UID:15094-1773999000-1774020600@vff.org.au
SUMMARY:Fencing Workshop\, Daylesford
DESCRIPTION:Join us for a practical\, on-farm workshop with two skilled fencing contractors sharing their knowledge.  \n\n\n\nLearn how to install new fencing and maintain and repair existing ones\, as well as how fencing relates to good biosecurity.  \n\n\n\nSpots are limited so register to claim yours. \n\n\n\nClick HERE to register \n\n\n\nFor more information\, contact Stock Sense at stocksense@vff.org.au
URL:https://vff.org.au/event/fencing-workshop-daylesford/
CATEGORIES:Stock Sense
ATTACH;FMTTYPE=image/jpeg:https://vff.org.au/wp-content/uploads/2026/02/Mornington-2-1-scaled.jpg
END:VEVENT
BEGIN:VEVENT
DTSTART;TZID=Australia/Melbourne:20260324T123000
DTEND;TZID=Australia/Melbourne:20260324T123000
DTSTAMP:20260421T180244
CREATED:20260310T232012Z
LAST-MODIFIED:20260310T232020Z
UID:15171-1774355400-1774355400@vff.org.au
SUMMARY:Have your say: VFF State Election Priorities Online Workshop 2
DESCRIPTION:This year’s State Election is our chance as farmers to shape the future of farming and rural Victoria.  \n\n\n\nFarmers are facing unprecedented challenges\, and together we must make sure the voice of agriculture is heard. We want to hear directly from you.  \n\n\n\nWhat matters most to your farm business? What policies are affecting your region? And what needs to change?  \n\n\n\nTogether\, we must put forward strong ideas\, and hold all parties to account for how their policies will impact our industry. Agriculture is the engine of rural Victoria\, and together we can push for the change needed to drive innovation\, support growth and secure the future of farming. \n\n\n\nThat’s why we’re inviting members to take part in our State Election Priorities Online Workshops.  \n\n\n\nJoin VFF President Brett Hosking\, VFF CEO Charlie Thomas and session facilitator Cate Mercer-Grant for an interactive discussion to identify the key issues facing farmers and help drive VFF advocacy toward the 2026 State Election.  \n\n\n\nClick below to register your interest for Tuesday 24 March 12:30pm \n\n\n\nREGISTER NOW
URL:https://vff.org.au/event/have-your-say-vff-state-election-priorities-online-workshop-2/
ATTACH;FMTTYPE=image/jpeg:https://vff.org.au/wp-content/uploads/2024/10/VFF-ELECTION-FORUM-AND-WORKSHOPS-2-scaled.jpg
END:VEVENT
BEGIN:VEVENT
DTSTART;TZID=Australia/Melbourne:20260331T183000
DTEND;TZID=Australia/Melbourne:20260331T183000
DTSTAMP:20260421T180244
CREATED:20260310T232641Z
LAST-MODIFIED:20260310T232654Z
UID:15172-1774981800-1774981800@vff.org.au
SUMMARY:Have your say: VFF State Election Priorities Online Workshop 3
DESCRIPTION:This year’s State Election is our chance as farmers to shape the future of farming and rural Victoria.  \n\n\n\nFarmers are facing unprecedented challenges\, and together we must make sure the voice of agriculture is heard. We want to hear directly from you.  \n\n\n\nWhat matters most to your farm business? What policies are affecting your region? And what needs to change?  \n\n\n\nTogether\, we must put forward strong ideas\, and hold all parties to account for how their policies will impact our industry. Agriculture is the engine of rural Victoria\, and together we can push for the change needed to drive innovation\, support growth and secure the future of farming. \n\n\n\nThat’s why we’re inviting members to take part in our State Election Priorities Online Workshops.  \n\n\n\nJoin VFF President Brett Hosking\, VFF CEO Charlie Thomas and session facilitator Cate Mercer-Grant for an interactive discussion to identify the key issues facing farmers and help drive VFF advocacy toward the 2026 State Election.  \n\n\n\nClick below to register your interest for Tuesday 31 March 6:30pm \n\n\n\nREGISTER NOW
URL:https://vff.org.au/event/have-your-say-vff-state-election-priorities-online-workshop-3/
ATTACH;FMTTYPE=image/jpeg:https://vff.org.au/wp-content/uploads/2024/10/VFF-ELECTION-FORUM-AND-WORKSHOPS-2-scaled.jpg
END:VEVENT
END:VCALENDAR