BEGIN:VCALENDAR
VERSION:2.0
PRODID:-//Victorian Farmers Federation - ECPv6.15.17.1//NONSGML v1.0//EN
CALSCALE:GREGORIAN
METHOD:PUBLISH
X-WR-CALNAME:Victorian Farmers Federation
X-ORIGINAL-URL:https://vff.org.au
X-WR-CALDESC:Events for Victorian Farmers Federation
REFRESH-INTERVAL;VALUE=DURATION:PT1H
X-Robots-Tag:noindex
X-PUBLISHED-TTL:PT1H
BEGIN:VTIMEZONE
TZID:Australia/Melbourne
BEGIN:STANDARD
TZOFFSETFROM:+1100
TZOFFSETTO:+1000
TZNAME:AEST
DTSTART:20250405T160000
END:STANDARD
BEGIN:DAYLIGHT
TZOFFSETFROM:+1000
TZOFFSETTO:+1100
TZNAME:AEDT
DTSTART:20251004T160000
END:DAYLIGHT
BEGIN:STANDARD
TZOFFSETFROM:+1100
TZOFFSETTO:+1000
TZNAME:AEST
DTSTART:20260404T160000
END:STANDARD
BEGIN:DAYLIGHT
TZOFFSETFROM:+1000
TZOFFSETTO:+1100
TZNAME:AEDT
DTSTART:20261003T160000
END:DAYLIGHT
BEGIN:STANDARD
TZOFFSETFROM:+1100
TZOFFSETTO:+1000
TZNAME:AEST
DTSTART:20270403T160000
END:STANDARD
BEGIN:DAYLIGHT
TZOFFSETFROM:+1000
TZOFFSETTO:+1100
TZNAME:AEDT
DTSTART:20271002T160000
END:DAYLIGHT
END:VTIMEZONE
BEGIN:VEVENT
DTSTART;TZID=Australia/Melbourne:20260409T100000
DTEND;TZID=Australia/Melbourne:20260409T130000
DTSTAMP:20260420T233119
CREATED:20260301T231420Z
LAST-MODIFIED:20260301T231423Z
UID:15144-1775728800-1775739600@vff.org.au
SUMMARY:Cattle Health Workshop\, Traralgon
DESCRIPTION:Join vet Chelsea Hair as she discusses worms in cattle and how they can impact growth\, production and overall animal health.  \n\n\n\nShe will also cover faecal egg counts\, drenching\, vaccination and pasture management. \n\n\n\nThe Stock Sense team will also lead a discussion on biosecurity. \n\n\n\nClick HERE to register \n\n\n\nFor more information\, contact Stock Sense at stocksense@vff.org.au
URL:https://vff.org.au/event/cattle-health-traralgon/
CATEGORIES:Stock Sense
ATTACH;FMTTYPE=image/jpeg:https://vff.org.au/wp-content/uploads/2026/03/Mornington-7-scaled.jpg
END:VEVENT
END:VCALENDAR