BEGIN:VCALENDAR
VERSION:2.0
PRODID:-//Victorian Farmers Federation - ECPv6.15.17.1//NONSGML v1.0//EN
CALSCALE:GREGORIAN
METHOD:PUBLISH
X-WR-CALNAME:Victorian Farmers Federation
X-ORIGINAL-URL:https://vff.org.au
X-WR-CALDESC:Events for Victorian Farmers Federation
REFRESH-INTERVAL;VALUE=DURATION:PT1H
X-Robots-Tag:noindex
X-PUBLISHED-TTL:PT1H
BEGIN:VTIMEZONE
TZID:Australia/Melbourne
BEGIN:STANDARD
TZOFFSETFROM:+1100
TZOFFSETTO:+1000
TZNAME:AEST
DTSTART:20240406T160000
END:STANDARD
BEGIN:DAYLIGHT
TZOFFSETFROM:+1000
TZOFFSETTO:+1100
TZNAME:AEDT
DTSTART:20241005T160000
END:DAYLIGHT
BEGIN:STANDARD
TZOFFSETFROM:+1100
TZOFFSETTO:+1000
TZNAME:AEST
DTSTART:20250405T160000
END:STANDARD
BEGIN:DAYLIGHT
TZOFFSETFROM:+1000
TZOFFSETTO:+1100
TZNAME:AEDT
DTSTART:20251004T160000
END:DAYLIGHT
BEGIN:STANDARD
TZOFFSETFROM:+1100
TZOFFSETTO:+1000
TZNAME:AEST
DTSTART:20260404T160000
END:STANDARD
BEGIN:DAYLIGHT
TZOFFSETFROM:+1000
TZOFFSETTO:+1100
TZNAME:AEDT
DTSTART:20261003T160000
END:DAYLIGHT
END:VTIMEZONE
BEGIN:VEVENT
DTSTART;TZID=Australia/Melbourne:20250627T093000
DTEND;TZID=Australia/Melbourne:20250627T133000
DTSTAMP:20260421T132730
CREATED:20250430T032918Z
LAST-MODIFIED:20250430T032928Z
UID:14344-1751016600-1751031000@vff.org.au
SUMMARY:Stock Handling Workshop\, Mortlake
DESCRIPTION:Join Victorian Farmer’s Federation’s Stock Sense\, in conjunction with HF Richardson Livestock & Property and Western Victoria Livestock Exchange\, for a free workshop covering stockyard design\, stock handling techniques and overall livestock safety for sheep\, cattle and goats.  \n\n\n\nSession 1: Mark BennettDiscussion on designing stockyards for the future to enhance long-term efficiency and safety in your farm infrastructure. \n\n\n\nSession 2: Jack BriscoePresentation of techniques for low-stress stock handling\, an essential practice for both improving livestock flow and reducing injury risks for farmers and animals alike. \n\n\n\nMorning tea and lunch provided. \n\n\n\nPlease register HERE \n\n\n\n For more information\, contact Stock Sense at stocksense@vff.org.au.
URL:https://vff.org.au/event/stock-handling-mortlake/
LOCATION:Mortlake Saleyards\, Connewarren Ln\, Mortlake\, VIC\, 3272\, Australia
CATEGORIES:Stock Sense
ATTACH;FMTTYPE=image/jpeg:https://vff.org.au/wp-content/uploads/2025/04/BANNER-Stock-Handling-Mortlake-scaled.jpg
END:VEVENT
END:VCALENDAR