BEGIN:VCALENDAR
VERSION:2.0
PRODID:-//Victorian Farmers Federation - ECPv6.15.17.1//NONSGML v1.0//EN
CALSCALE:GREGORIAN
METHOD:PUBLISH
X-WR-CALNAME:Victorian Farmers Federation
X-ORIGINAL-URL:https://vff.org.au
X-WR-CALDESC:Events for Victorian Farmers Federation
REFRESH-INTERVAL;VALUE=DURATION:PT1H
X-Robots-Tag:noindex
X-PUBLISHED-TTL:PT1H
BEGIN:VTIMEZONE
TZID:Australia/Melbourne
BEGIN:STANDARD
TZOFFSETFROM:+1100
TZOFFSETTO:+1000
TZNAME:AEST
DTSTART:20240406T160000
END:STANDARD
BEGIN:DAYLIGHT
TZOFFSETFROM:+1000
TZOFFSETTO:+1100
TZNAME:AEDT
DTSTART:20241005T160000
END:DAYLIGHT
BEGIN:STANDARD
TZOFFSETFROM:+1100
TZOFFSETTO:+1000
TZNAME:AEST
DTSTART:20250405T160000
END:STANDARD
BEGIN:DAYLIGHT
TZOFFSETFROM:+1000
TZOFFSETTO:+1100
TZNAME:AEDT
DTSTART:20251004T160000
END:DAYLIGHT
BEGIN:STANDARD
TZOFFSETFROM:+1100
TZOFFSETTO:+1000
TZNAME:AEST
DTSTART:20260404T160000
END:STANDARD
BEGIN:DAYLIGHT
TZOFFSETFROM:+1000
TZOFFSETTO:+1100
TZNAME:AEDT
DTSTART:20261003T160000
END:DAYLIGHT
END:VTIMEZONE
BEGIN:VEVENT
DTSTART;TZID=Australia/Melbourne:20251105T180000
DTEND;TZID=Australia/Melbourne:20251105T193000
DTSTAMP:20260421T052431
CREATED:20251008T223021Z
LAST-MODIFIED:20251008T223021Z
UID:14884-1762365600-1762371000@vff.org.au
SUMMARY:Exclusion Fencing Webinar
DESCRIPTION:Exclusion fencing that works – Practical design and management  \n\n\n\nJoin presenter Jarrod Coote for a practical webinar on exclusion fencing\, covering everything from planning and design through to ongoing management. This will include how fencing fits into integrated control of declared pest species and ethical management of wildlife.   \n\n\n\nWe’ll also be joined by a Gallagher representative to walk through product options that support exclusion fencing.  \n\n\n\nThe webinar series will be conducted via Zoom. Register your interest here. We look forward to seeing you!
URL:https://vff.org.au/event/exculsion-fencing-webinar/
CATEGORIES:Stock Sense
ATTACH;FMTTYPE=image/jpeg:https://vff.org.au/wp-content/uploads/2025/10/Webinar-Banners-Lambing-Essentials-Sheep-Essentials-20-scaled.jpg
END:VEVENT
BEGIN:VEVENT
DTSTART;TZID=Australia/Melbourne:20251116T093000
DTEND;TZID=Australia/Melbourne:20251116T143000
DTSTAMP:20260421T052431
CREATED:20250825T051314Z
LAST-MODIFIED:20251105T232907Z
UID:14801-1763285400-1763303400@vff.org.au
SUMMARY:Fencing Workshop\, Bellarine
DESCRIPTION:Join us for a practical\, on-farm workshop with two skilled fencing contractors sharing their knowledge.  \n\n\n\nLearn how to install new fencing and maintain and repair existing ones\, as well as how fencing relates to good biosecurity. \n\n\n\nSpots are limited so register to claim yours now. \n\n\n\nClick HERE to register \n\n\n\nFor more information\, contact Stock Sense at stocksense@vff.org.au
URL:https://vff.org.au/event/fencing-workshop-bellarine/
LOCATION:Bellarine\, Victoria\, Bellarine\, VIC\, 3223\, Australia
CATEGORIES:Stock Sense
ATTACH;FMTTYPE=image/jpeg:https://vff.org.au/wp-content/uploads/2025/08/Mornington-9-scaled.jpg
END:VEVENT
BEGIN:VEVENT
DTSTART;TZID=Australia/Melbourne:20251118T100000
DTEND;TZID=Australia/Melbourne:20251118T140000
DTSTAMP:20260421T052431
CREATED:20251022T001157Z
LAST-MODIFIED:20251022T001656Z
UID:14908-1763460000-1763474400@vff.org.au
SUMMARY:Stock Handling Workshop\, Shepparton
DESCRIPTION:BOOST YOUR FARM SAFETY AND PRODUCTIVITY  \n\n\n\nJoin experts Mark Bennett and Jack Briscoe as they discuss stockyard design\, stock handling techniques and overall livestock safety for sheep\, cattle and goats. \n\n\n\nSession 1: Mark BennettDiscussion on designing stockyards for the future to enhance long-term efficiency and safety in your farm infrastructure. \n\n\n\nSession 2: Jack BriscoePresentation of techniques for low-stress handling of stock\, an essential practice for both improving livestock flow and reducing injury risks for farmers and animals alike. \n\n\n\nMorning tea and lunch provided. \n\n\n\nClick HERE to register \n\n\n\nFor more information\, contact Stock Sense at stocksense@vff.org.au
URL:https://vff.org.au/event/stock-handling-shepparton/
LOCATION:Shepparton\, Shepparton\, VIC\, Australia
CATEGORIES:Stock Sense
ATTACH;FMTTYPE=image/jpeg:https://vff.org.au/wp-content/uploads/2025/10/Mornington-12-scaled.jpg
END:VEVENT
BEGIN:VEVENT
DTSTART;TZID=Australia/Melbourne:20251121T093000
DTEND;TZID=Australia/Melbourne:20251121T153000
DTSTAMP:20260421T052431
CREATED:20251008T232652Z
LAST-MODIFIED:20251008T232655Z
UID:14887-1763717400-1763739000@vff.org.au
SUMMARY:Goat Essentials Workshop\, Wattle Flat
DESCRIPTION:This practical\, hands-on goat husbandry workshop covers everything from vaccinations\, faecal egg counts and general biosecurity to body condition scoring and FAMACHA® for effective worm control.  \n\n\n\nLearn when and how to vaccinate\, assess parasite load\, score animals confidently\, and build low-stress routines that lift herd health and productivity.   \n\n\n\nClick HERE to register \n\n\n\nFor more information\, contact Stock Sense at stocksense@vff.org.au
URL:https://vff.org.au/event/goat-essentials-workshop-wattle-flat/
LOCATION:Wattle Flat\, Wattle Flat\, VIC\, Australia
CATEGORIES:Stock Sense
ATTACH;FMTTYPE=image/jpeg:https://vff.org.au/wp-content/uploads/2025/10/Mornington-10-scaled.jpg
END:VEVENT
BEGIN:VEVENT
DTSTART;TZID=Australia/Melbourne:20251128T093000
DTEND;TZID=Australia/Melbourne:20251128T143000
DTSTAMP:20260421T052431
CREATED:20251022T002509Z
LAST-MODIFIED:20251022T002706Z
UID:14912-1764322200-1764340200@vff.org.au
SUMMARY:Fencing Workshop\, Mansfield
DESCRIPTION:Join us for a practical\, on-farm workshop with two skilled fencing contractors sharing their knowledge.  \n\n\n\nLearn how to install new fencing and maintain and repair existing ones\, as well as how fencing relates to good biosecurity.  \n\n\n\nSpots are limited so register to claim yours. \n\n\n\nClick HERE to register \n\n\n\nFor more information\, contact Stock Sense at stocksense@vff.org.au
URL:https://vff.org.au/event/fencing-workshop-mansfield/
LOCATION:Mansfield\, Mansfield\, VIC\, Australia
CATEGORIES:Stock Sense
ATTACH;FMTTYPE=image/jpeg:https://vff.org.au/wp-content/uploads/2025/10/Mornington-13-scaled.jpg
END:VEVENT
END:VCALENDAR