BEGIN:VCALENDAR
VERSION:2.0
PRODID:-//Victorian Farmers Federation - ECPv6.15.17.1//NONSGML v1.0//EN
CALSCALE:GREGORIAN
METHOD:PUBLISH
X-WR-CALNAME:Victorian Farmers Federation
X-ORIGINAL-URL:https://vff.org.au
X-WR-CALDESC:Events for Victorian Farmers Federation
REFRESH-INTERVAL;VALUE=DURATION:PT1H
X-Robots-Tag:noindex
X-PUBLISHED-TTL:PT1H
BEGIN:VTIMEZONE
TZID:Australia/Melbourne
BEGIN:STANDARD
TZOFFSETFROM:+1100
TZOFFSETTO:+1000
TZNAME:AEST
DTSTART:20250405T160000
END:STANDARD
BEGIN:DAYLIGHT
TZOFFSETFROM:+1000
TZOFFSETTO:+1100
TZNAME:AEDT
DTSTART:20251004T160000
END:DAYLIGHT
BEGIN:STANDARD
TZOFFSETFROM:+1100
TZOFFSETTO:+1000
TZNAME:AEST
DTSTART:20260404T160000
END:STANDARD
BEGIN:DAYLIGHT
TZOFFSETFROM:+1000
TZOFFSETTO:+1100
TZNAME:AEDT
DTSTART:20261003T160000
END:DAYLIGHT
BEGIN:STANDARD
TZOFFSETFROM:+1100
TZOFFSETTO:+1000
TZNAME:AEST
DTSTART:20270403T160000
END:STANDARD
BEGIN:DAYLIGHT
TZOFFSETFROM:+1000
TZOFFSETTO:+1100
TZNAME:AEDT
DTSTART:20271002T160000
END:DAYLIGHT
END:VTIMEZONE
BEGIN:VEVENT
DTSTART;TZID=Australia/Melbourne:20260320T090000
DTEND;TZID=Australia/Melbourne:20260320T090000
DTSTAMP:20260421T191454
CREATED:20260304T043149Z
LAST-MODIFIED:20260304T043151Z
UID:15159-1773997200-1773997200@vff.org.au
SUMMARY:VFF Peninsula Branch Seminar: Pastures and soils
DESCRIPTION:2026 VFF Peninsula Branch Pastures Workshop Fri 20 March with Humantix link_Download
URL:https://vff.org.au/event/vff-peninsula-branch-seminar-pastures-and-soils/
END:VEVENT
BEGIN:VEVENT
DTSTART;TZID=Australia/Melbourne:20260320T093000
DTEND;TZID=Australia/Melbourne:20260320T153000
DTSTAMP:20260421T191454
CREATED:20260204T230356Z
LAST-MODIFIED:20260204T230358Z
UID:15094-1773999000-1774020600@vff.org.au
SUMMARY:Fencing Workshop\, Daylesford
DESCRIPTION:Join us for a practical\, on-farm workshop with two skilled fencing contractors sharing their knowledge.  \n\n\n\nLearn how to install new fencing and maintain and repair existing ones\, as well as how fencing relates to good biosecurity.  \n\n\n\nSpots are limited so register to claim yours. \n\n\n\nClick HERE to register \n\n\n\nFor more information\, contact Stock Sense at stocksense@vff.org.au
URL:https://vff.org.au/event/fencing-workshop-daylesford/
CATEGORIES:Stock Sense
ATTACH;FMTTYPE=image/jpeg:https://vff.org.au/wp-content/uploads/2026/02/Mornington-2-1-scaled.jpg
END:VEVENT
END:VCALENDAR