BEGIN:VCALENDAR
VERSION:2.0
PRODID:-//Victorian Farmers Federation - ECPv6.15.17.1//NONSGML v1.0//EN
CALSCALE:GREGORIAN
METHOD:PUBLISH
X-WR-CALNAME:Victorian Farmers Federation
X-ORIGINAL-URL:https://vff.org.au
X-WR-CALDESC:Events for Victorian Farmers Federation
REFRESH-INTERVAL;VALUE=DURATION:PT1H
X-Robots-Tag:noindex
X-PUBLISHED-TTL:PT1H
BEGIN:VTIMEZONE
TZID:Australia/Melbourne
BEGIN:STANDARD
TZOFFSETFROM:+1100
TZOFFSETTO:+1000
TZNAME:AEST
DTSTART:20250405T160000
END:STANDARD
BEGIN:DAYLIGHT
TZOFFSETFROM:+1000
TZOFFSETTO:+1100
TZNAME:AEDT
DTSTART:20251004T160000
END:DAYLIGHT
BEGIN:STANDARD
TZOFFSETFROM:+1100
TZOFFSETTO:+1000
TZNAME:AEST
DTSTART:20260404T160000
END:STANDARD
BEGIN:DAYLIGHT
TZOFFSETFROM:+1000
TZOFFSETTO:+1100
TZNAME:AEDT
DTSTART:20261003T160000
END:DAYLIGHT
BEGIN:STANDARD
TZOFFSETFROM:+1100
TZOFFSETTO:+1000
TZNAME:AEST
DTSTART:20270403T160000
END:STANDARD
BEGIN:DAYLIGHT
TZOFFSETFROM:+1000
TZOFFSETTO:+1100
TZNAME:AEDT
DTSTART:20271002T160000
END:DAYLIGHT
END:VTIMEZONE
BEGIN:VEVENT
DTSTART;TZID=Australia/Melbourne:20260225T100000
DTEND;TZID=Australia/Melbourne:20260225T143000
DTSTAMP:20260421T232955
CREATED:20260130T000928Z
LAST-MODIFIED:20260130T000931Z
UID:15087-1772013600-1772029800@vff.org.au
SUMMARY:Euthanasia of Livestock\, Larpent
DESCRIPTION:In collaboration with Dairy Australia and West Vic Dairy\, this practical course provides participants with the knowledge of legal responsibilities and skills to safely and humanely euthanise sick\, injured or unsaleable animals.  \n\n\n\nVeterinarian Dr Xavier McKinnon will present.     \n\n\n\nClick HERE to register \n\n\n\nFor more information\, contact Stock Sense at stocksense@vff.org.au
URL:https://vff.org.au/event/euthansia-of-livestock-larpent/
LOCATION:Larpent Hall\, Larpent Road\, Larpent\, Vic\, 3249
CATEGORIES:Stock Sense
ATTACH;FMTTYPE=image/png:https://vff.org.au/wp-content/uploads/2026/01/Mornington.png
END:VEVENT
BEGIN:VEVENT
DTSTART;TZID=Australia/Melbourne:20260225T140000
DTEND;TZID=Australia/Melbourne:20260225T160000
DTSTAMP:20260421T232955
CREATED:20260217T043755Z
LAST-MODIFIED:20260217T043801Z
UID:15131-1772028000-1772035200@vff.org.au
SUMMARY:Payday Super Webinar | Prime Super
DESCRIPTION:The Australian Government has introduced Payday Super\, a new legal requirement for Australian businesses and employers to pay their employees’ super guarantee (SG) contributions at the same time as their wages or salaries. \n\n\n\nJoin Prime Super for their 45-minute webinar on Wednesday 25 February at 2pm\, where they’ll guide you through the upcoming changes\, answer your questions\, and help you prepare. \n\n\n\nFrom 1 July 2026\, you’ll need to:  \n\n\n\n\nReport both Qualifying Earnings (QE) and super liability through Single Touch Payroll \n\n\n\nPay Super Guarantee (SG) on payday – the same day you pay wages \n\n\n\nEnsure contributions reach the employee’s super fund within 7 business days \n\n\n\n\nThese changes aim to improve transparency\, reduce unpaid super\, and help employees grow their retirement savings faster through more frequent contributions.  \n\n\n\nWhat you need to do now:  \n\n\n\n\nReview your payroll systems for compliance \n\n\n\nSpeak with your provider about readiness \n\n\n\nStart planning for more frequent super payments \n\n\n\n\nLearn more on Prime Super’s Employer Hub  \n\n\n\nVisit their guide to Payday Super for:  \n\n\n\n\nA full breakdown of the new rules \n\n\n\nKey dates and compliance requirements \n\n\n\nPractical steps to prepare your business 
URL:https://vff.org.au/event/payday-super-webinar-prime-super/
END:VEVENT
END:VCALENDAR