BEGIN:VCALENDAR
VERSION:2.0
PRODID:-//Victorian Farmers Federation - ECPv6.15.17.1//NONSGML v1.0//EN
CALSCALE:GREGORIAN
METHOD:PUBLISH
X-WR-CALNAME:Victorian Farmers Federation
X-ORIGINAL-URL:https://vff.org.au
X-WR-CALDESC:Events for Victorian Farmers Federation
REFRESH-INTERVAL;VALUE=DURATION:PT1H
X-Robots-Tag:noindex
X-PUBLISHED-TTL:PT1H
BEGIN:VTIMEZONE
TZID:Australia/Melbourne
BEGIN:STANDARD
TZOFFSETFROM:+1100
TZOFFSETTO:+1000
TZNAME:AEST
DTSTART:20240406T160000
END:STANDARD
BEGIN:DAYLIGHT
TZOFFSETFROM:+1000
TZOFFSETTO:+1100
TZNAME:AEDT
DTSTART:20241005T160000
END:DAYLIGHT
BEGIN:STANDARD
TZOFFSETFROM:+1100
TZOFFSETTO:+1000
TZNAME:AEST
DTSTART:20250405T160000
END:STANDARD
BEGIN:DAYLIGHT
TZOFFSETFROM:+1000
TZOFFSETTO:+1100
TZNAME:AEDT
DTSTART:20251004T160000
END:DAYLIGHT
BEGIN:STANDARD
TZOFFSETFROM:+1100
TZOFFSETTO:+1000
TZNAME:AEST
DTSTART:20260404T160000
END:STANDARD
BEGIN:DAYLIGHT
TZOFFSETFROM:+1000
TZOFFSETTO:+1100
TZNAME:AEDT
DTSTART:20261003T160000
END:DAYLIGHT
END:VTIMEZONE
BEGIN:VEVENT
DTSTART;TZID=Australia/Melbourne:20250728T180000
DTEND;TZID=Australia/Melbourne:20250728T180000
DTSTAMP:20260421T203437
CREATED:20250714T042230Z
LAST-MODIFIED:20250714T042235Z
UID:14680-1753725600-1753725600@vff.org.au
SUMMARY:VFF Peninsula Branch AGM
DESCRIPTION:You’re invited to the VFF Peninsula Branch AGM to be held at the function room\, Westernport Hotel\, 16 High St\, Hastings. \n\n\n\n6.00pm Arrive and purchase Dinner and drinks in The Bistro (own cost)         \n\n\n\n7.15pm AGM \n\n\n\nWelcome: All VFF members\, and friends of agriculture. Non-members welcome \n\n\n\nApologies \n\n\n\nPrevious Minutes \n\n\n\nMinutes of the VFF Peninsula Branch AGM 8 August 2024 circulated to all members by email. \n\n\n\nPresident’s Report: Stephen Todd \n\n\n\nTreasurer’s Report: \n\n\n\nElection of Office Bearers. \n\n\n\nPresident vacates the Chair \n\n\n\nAny member is welcome to nominate for the committee. No experience necessary! \n\n\n\nCommittee nominations called for: \n\n\n\nPresident\, Vice President\, Treasurer\, Minute Secretary\, Social Media Secretary\, Strategy & Membership Secretary\, General Committee \n\n\n\n7.30pm: Guest Speaker: Dean Gazzola: “The challenges of farming in the 21st century and what is required to protect food production”  \n\n\n\nDean\, a fourth generation farmer\, is Manager of Gazzola Farms (Boneo). He served five years in the Royal Australian Navy in maritime logistics\, before returning to the family farm. \n\n\n\nRSVP: vffpen@gmail.com    
URL:https://vff.org.au/event/vff-peninsula-branch-agm/
END:VEVENT
END:VCALENDAR